Package: sSNAPPY Version: 1.11.0 Command: E:\biocbuild\bbs-3.21-bioc\R\bin\R.exe CMD check --no-multiarch --install=check:sSNAPPY.install-out.txt --library=E:\biocbuild\bbs-3.21-bioc\R\library --no-vignettes --timings sSNAPPY_1.11.0.tar.gz StartedAt: 2025-02-10 05:54:11 -0500 (Mon, 10 Feb 2025) EndedAt: 2025-02-10 06:03:15 -0500 (Mon, 10 Feb 2025) EllapsedTime: 544.0 seconds RetCode: 0 Status: OK CheckDir: sSNAPPY.Rcheck Warnings: 0