Package: sSeq Version: 1.45.0 Command: /Library/Frameworks/R.framework/Resources/bin/R CMD INSTALL sSeq StartedAt: 2025-02-09 15:02:03 -0500 (Sun, 09 Feb 2025) EndedAt: 2025-02-09 15:02:08 -0500 (Sun, 09 Feb 2025) EllapsedTime: 4.7 seconds RetCode: 0 Status: OK