Package: sSeq Version: 1.45.0 Command: /home/biocbuild/R/R/bin/R CMD check --install=check:sSeq.install-out.txt --library=/home/biocbuild/R/R/site-library --no-vignettes --timings sSeq_1.45.0.tar.gz StartedAt: 2025-01-28 15:46:44 -0000 (Tue, 28 Jan 2025) EndedAt: 2025-01-28 15:50:29 -0000 (Tue, 28 Jan 2025) EllapsedTime: 225.2 seconds RetCode: 0 Status: OK CheckDir: sSeq.Rcheck Warnings: 0