Package: sSeq Version: 1.45.0 Command: rm -rf sSeq.buildbin-libdir && mkdir sSeq.buildbin-libdir && /Users/biocbuild/BBS/utils/build-universal.sh sSeq_1.45.0.tar.gz /Library/Frameworks/R.framework/Resources/bin/R sSeq.buildbin-libdir StartedAt: 2025-02-10 01:18:55 -0500 (Mon, 10 Feb 2025) EndedAt: 2025-02-10 01:19:02 -0500 (Mon, 10 Feb 2025) EllapsedTime: 6.9 seconds RetCode: 0 Status: OK PackageFile: sSeq_1.45.0.tgz PackageFileSize: 4.299 MiB