Package: sSeq Version: 1.45.0 Command: /Library/Frameworks/R.framework/Resources/bin/R CMD build --keep-empty-dirs --no-resave-data sSeq StartedAt: 2025-02-12 18:29:33 -0500 (Wed, 12 Feb 2025) EndedAt: 2025-02-12 18:30:39 -0500 (Wed, 12 Feb 2025) EllapsedTime: 66.3 seconds RetCode: 0 Status: OK PackageFile: sSeq_1.45.0.tar.gz PackageFileSize: 4.201 MiB