Package: sSeq Version: 1.45.0 Command: /home/biocbuild/bbs-3.21-bioc/R/bin/R CMD check --install=check:sSeq.install-out.txt --library=/home/biocbuild/bbs-3.21-bioc/R/site-library --timings sSeq_1.45.0.tar.gz StartedAt: 2025-02-10 03:05:59 -0500 (Mon, 10 Feb 2025) EndedAt: 2025-02-10 03:09:10 -0500 (Mon, 10 Feb 2025) EllapsedTime: 191.3 seconds RetCode: 0 Status: OK CheckDir: sSeq.Rcheck Warnings: 0