Package: sSeq Version: 1.45.0 Command: rm -rf sSeq.buildbin-libdir && mkdir sSeq.buildbin-libdir && E:\biocbuild\bbs-3.21-bioc\R\bin\R.exe CMD INSTALL --build --library=sSeq.buildbin-libdir sSeq_1.45.0.tar.gz StartedAt: 2025-02-10 08:48:40 -0500 (Mon, 10 Feb 2025) EndedAt: 2025-02-10 08:48:49 -0500 (Mon, 10 Feb 2025) EllapsedTime: 9.6 seconds RetCode: 0 Status: OK PackageFile: sSeq_1.45.0.zip PackageFileSize: 4.3 MiB