Package: sSeq Version: 1.45.0 Command: E:\biocbuild\bbs-3.21-bioc\R\bin\R.exe CMD check --no-multiarch --install=check:sSeq.install-out.txt --library=E:\biocbuild\bbs-3.21-bioc\R\library --no-vignettes --timings sSeq_1.45.0.tar.gz StartedAt: 2025-02-10 05:53:20 -0500 (Mon, 10 Feb 2025) EndedAt: 2025-02-10 05:58:41 -0500 (Mon, 10 Feb 2025) EllapsedTime: 320.5 seconds RetCode: 0 Status: OK CheckDir: sSeq.Rcheck Warnings: 0