Package: safe Version: 3.47.0 Command: /Library/Frameworks/R.framework/Resources/bin/R CMD build --keep-empty-dirs --no-resave-data safe StartedAt: 2025-02-12 17:28:56 -0500 (Wed, 12 Feb 2025) EndedAt: 2025-02-12 17:31:01 -0500 (Wed, 12 Feb 2025) EllapsedTime: 124.5 seconds RetCode: 0 Status: OK PackageFile: safe_3.47.0.tar.gz PackageFileSize: 713.1 KiB