Package: safe Version: 3.47.0 Command: /Library/Frameworks/R.framework/Resources/bin/R CMD check --install=check:safe.install-out.txt --library=/Library/Frameworks/R.framework/Resources/library --no-vignettes --timings safe_3.47.0.tar.gz StartedAt: 2025-02-12 21:12:38 -0500 (Wed, 12 Feb 2025) EndedAt: 2025-02-12 21:13:13 -0500 (Wed, 12 Feb 2025) EllapsedTime: 35.4 seconds RetCode: 0 Status: OK CheckDir: safe.Rcheck Warnings: 0