Package: safe Version: 3.47.0 Command: /home/biocbuild/R/R/bin/R CMD build --keep-empty-dirs --no-resave-data safe StartedAt: 2025-01-29 01:55:54 -0000 (Wed, 29 Jan 2025) EndedAt: 2025-01-29 02:03:24 -0000 (Wed, 29 Jan 2025) EllapsedTime: 449.5 seconds RetCode: 0 Status: OK PackageFile: safe_3.47.0.tar.gz PackageFileSize: 709.9 KiB