Package: safe Version: 3.47.0 Command: rm -rf safe.buildbin-libdir && mkdir safe.buildbin-libdir && /Users/biocbuild/BBS/utils/build-universal.sh safe_3.47.0.tar.gz /Library/Frameworks/R.framework/Resources/bin/R safe.buildbin-libdir StartedAt: 2025-02-10 01:13:50 -0500 (Mon, 10 Feb 2025) EndedAt: 2025-02-10 01:14:17 -0500 (Mon, 10 Feb 2025) EllapsedTime: 26.6 seconds RetCode: 0 Status: OK PackageFile: safe_3.47.0.tgz PackageFileSize: 897.9 KiB