Package: safe Version: 3.47.0 Command: /Library/Frameworks/R.framework/Resources/bin/R CMD build --keep-empty-dirs --no-resave-data safe StartedAt: 2025-02-09 18:16:18 -0500 (Sun, 09 Feb 2025) EndedAt: 2025-02-09 18:22:24 -0500 (Sun, 09 Feb 2025) EllapsedTime: 366.1 seconds RetCode: 0 Status: OK PackageFile: safe_3.47.0.tar.gz PackageFileSize: 712.6 KiB