Package: safe Version: 3.47.0 Command: /Library/Frameworks/R.framework/Resources/bin/R CMD check --install=check:safe.install-out.txt --library=/Library/Frameworks/R.framework/Resources/library --no-vignettes --timings safe_3.47.0.tar.gz StartedAt: 2025-02-09 23:18:56 -0500 (Sun, 09 Feb 2025) EndedAt: 2025-02-09 23:20:45 -0500 (Sun, 09 Feb 2025) EllapsedTime: 109.2 seconds RetCode: 0 Status: OK CheckDir: safe.Rcheck Warnings: 0