Package: safe Version: 3.47.0 Command: rm -rf safe.buildbin-libdir && mkdir safe.buildbin-libdir && E:\biocbuild\bbs-3.21-bioc\R\bin\R.exe CMD INSTALL --build --library=safe.buildbin-libdir safe_3.47.0.tar.gz StartedAt: 2025-02-13 08:47:46 -0500 (Thu, 13 Feb 2025) EndedAt: 2025-02-13 08:48:17 -0500 (Thu, 13 Feb 2025) EllapsedTime: 31.1 seconds RetCode: 0 Status: OK PackageFile: safe_3.47.0.zip PackageFileSize: 707 KiB