Package: safe Version: 3.47.0 Command: E:\biocbuild\bbs-3.21-bioc\R\bin\R.exe CMD check --no-multiarch --install=check:safe.install-out.txt --library=E:\biocbuild\bbs-3.21-bioc\R\library --no-vignettes --timings safe_3.47.0.tar.gz StartedAt: 2025-02-10 04:59:03 -0500 (Mon, 10 Feb 2025) EndedAt: 2025-02-10 05:00:51 -0500 (Mon, 10 Feb 2025) EllapsedTime: 108.5 seconds RetCode: 0 Status: OK CheckDir: safe.Rcheck Warnings: 0