Package: sagenhaft Version: 1.77.0 Command: /Library/Frameworks/R.framework/Resources/bin/R CMD INSTALL sagenhaft StartedAt: 2025-02-09 15:02:22 -0500 (Sun, 09 Feb 2025) EndedAt: 2025-02-09 15:02:30 -0500 (Sun, 09 Feb 2025) EllapsedTime: 8.1 seconds RetCode: 0 Status: OK