Package: sagenhaft Version: 1.77.0 Command: /Library/Frameworks/R.framework/Resources/bin/R CMD INSTALL sagenhaft StartedAt: 2025-02-12 15:05:51 -0500 (Wed, 12 Feb 2025) EndedAt: 2025-02-12 15:06:15 -0500 (Wed, 12 Feb 2025) EllapsedTime: 24.3 seconds RetCode: 0 Status: OK