Package: sagenhaft Version: 1.77.0 Command: chmod a+r sagenhaft -R && E:\biocbuild\bbs-3.21-bioc\R\bin\R.exe CMD build --keep-empty-dirs --no-resave-data sagenhaft StartedAt: 2025-02-09 21:21:11 -0500 (Sun, 09 Feb 2025) EndedAt: 2025-02-09 21:21:55 -0500 (Sun, 09 Feb 2025) EllapsedTime: 43.0 seconds RetCode: 0 Status: OK PackageFile: sagenhaft_1.77.0.tar.gz PackageFileSize: 2.5 MiB