Package: sagenhaft Version: 1.77.0 Command: E:\biocbuild\bbs-3.21-bioc\R\bin\R.exe CMD INSTALL sagenhaft StartedAt: 2025-02-09 15:22:28 -0500 (Sun, 09 Feb 2025) EndedAt: 2025-02-09 15:22:41 -0500 (Sun, 09 Feb 2025) EllapsedTime: 13.1 seconds RetCode: 0 Status: OK