Package: sampleClassifier Version: 1.31.0 Command: /Library/Frameworks/R.framework/Resources/bin/R CMD check --install=check:sampleClassifier.install-out.txt --library=/Library/Frameworks/R.framework/Resources/library --no-vignettes --timings sampleClassifier_1.31.0.tar.gz StartedAt: 2025-02-09 21:07:44 -0500 (Sun, 09 Feb 2025) EndedAt: 2025-02-09 21:09:15 -0500 (Sun, 09 Feb 2025) EllapsedTime: 91.2 seconds RetCode: 0 Status: OK CheckDir: sampleClassifier.Rcheck Warnings: 0