Package: sampleClassifier Version: 1.31.0 Command: /Library/Frameworks/R.framework/Resources/bin/R CMD INSTALL sampleClassifier StartedAt: 2025-02-12 15:11:01 -0500 (Wed, 12 Feb 2025) EndedAt: 2025-02-12 15:11:07 -0500 (Wed, 12 Feb 2025) EllapsedTime: 6.3 seconds RetCode: 0 Status: OK