Package: sampleClassifier Version: 1.31.0 Command: rm -rf sampleClassifier.buildbin-libdir && mkdir sampleClassifier.buildbin-libdir && /Users/biocbuild/BBS/utils/build-universal.sh sampleClassifier_1.31.0.tar.gz /Library/Frameworks/R.framework/Resources/bin/R sampleClassifier.buildbin-libdir StartedAt: 2025-02-10 01:13:53 -0500 (Mon, 10 Feb 2025) EndedAt: 2025-02-10 01:14:19 -0500 (Mon, 10 Feb 2025) EllapsedTime: 26.5 seconds RetCode: 0 Status: OK PackageFile: sampleClassifier_1.31.0.tgz PackageFileSize: 271.4 KiB