Package: sampleClassifier Version: 1.31.0 Command: /home/biocbuild/bbs-3.21-bioc/R/bin/R CMD build --keep-empty-dirs --no-resave-data sampleClassifier StartedAt: 2025-02-09 19:03:08 -0500 (Sun, 09 Feb 2025) EndedAt: 2025-02-09 19:05:18 -0500 (Sun, 09 Feb 2025) EllapsedTime: 130.2 seconds RetCode: 0 Status: OK PackageFile: sampleClassifier_1.31.0.tar.gz PackageFileSize: 238.9 KiB