Package: sampleClassifier Version: 1.31.0 Command: rm -rf sampleClassifier.buildbin-libdir && mkdir sampleClassifier.buildbin-libdir && E:\biocbuild\bbs-3.21-bioc\R\bin\R.exe CMD INSTALL --build --library=sampleClassifier.buildbin-libdir sampleClassifier_1.31.0.tar.gz StartedAt: 2025-02-10 08:36:54 -0500 (Mon, 10 Feb 2025) EndedAt: 2025-02-10 08:37:34 -0500 (Mon, 10 Feb 2025) EllapsedTime: 40.2 seconds RetCode: 0 Status: OK PackageFile: sampleClassifier_1.31.0.zip PackageFileSize: 273.7 KiB