Package: sampleClassifier Version: 1.31.0 Command: E:\biocbuild\bbs-3.21-bioc\R\bin\R.exe CMD INSTALL sampleClassifier StartedAt: 2025-02-12 15:51:30 -0500 (Wed, 12 Feb 2025) EndedAt: 2025-02-12 15:52:13 -0500 (Wed, 12 Feb 2025) EllapsedTime: 42.9 seconds RetCode: 0 Status: OK