Package: sangeranalyseR Version: 1.17.0 Command: /Library/Frameworks/R.framework/Resources/bin/R CMD check --install=check:sangeranalyseR.install-out.txt --library=/Library/Frameworks/R.framework/Resources/library --no-vignettes --timings sangeranalyseR_1.17.0.tar.gz StartedAt: 2025-02-09 21:07:53 -0500 (Sun, 09 Feb 2025) EndedAt: 2025-02-09 21:08:52 -0500 (Sun, 09 Feb 2025) EllapsedTime: 59.8 seconds RetCode: 1 Status: ERROR CheckDir: sangeranalyseR.Rcheck Warnings: NA