Package: sangeranalyseR Version: 1.17.0 Command: /Library/Frameworks/R.framework/Resources/bin/R CMD INSTALL sangeranalyseR StartedAt: 2025-02-09 15:27:25 -0500 (Sun, 09 Feb 2025) EndedAt: 2025-02-09 15:27:34 -0500 (Sun, 09 Feb 2025) EllapsedTime: 9.3 seconds RetCode: 0 Status: OK