Package: sangeranalyseR Version: 1.17.0 Command: /home/biocbuild/R/R/bin/R CMD INSTALL sangeranalyseR StartedAt: 2025-01-29 20:32:15 -0000 (Wed, 29 Jan 2025) EndedAt: 2025-01-29 20:32:46 -0000 (Wed, 29 Jan 2025) EllapsedTime: 31.8 seconds RetCode: 0 Status: OK