Package: sangeranalyseR Version: 1.17.0 Command: /Library/Frameworks/R.framework/Resources/bin/R CMD check --install=check:sangeranalyseR.install-out.txt --library=/Library/Frameworks/R.framework/Resources/library --no-vignettes --timings sangeranalyseR_1.17.0.tar.gz StartedAt: 2025-02-09 23:19:26 -0500 (Sun, 09 Feb 2025) EndedAt: 2025-02-09 23:22:31 -0500 (Sun, 09 Feb 2025) EllapsedTime: 184.9 seconds RetCode: 1 Status: ERROR CheckDir: sangeranalyseR.Rcheck Warnings: NA