Package: sangeranalyseR Version: 1.17.0 Command: /home/biocbuild/bbs-3.21-bioc/R/bin/R CMD build --keep-empty-dirs --no-resave-data sangeranalyseR StartedAt: 2025-02-09 19:03:21 -0500 (Sun, 09 Feb 2025) EndedAt: 2025-02-09 19:03:56 -0500 (Sun, 09 Feb 2025) EllapsedTime: 35.0 seconds RetCode: 0 Status: OK PackageFile: sangeranalyseR_1.17.0.tar.gz PackageFileSize: 38.16 MiB