Package: sangeranalyseR Version: 1.17.0 Command: /home/biocbuild/bbs-3.21-bioc/R/bin/R CMD check --install=check:sangeranalyseR.install-out.txt --library=/home/biocbuild/bbs-3.21-bioc/R/site-library --timings sangeranalyseR_1.17.0.tar.gz StartedAt: 2025-02-05 02:19:43 -0500 (Wed, 05 Feb 2025) EndedAt: 2025-02-05 02:22:21 -0500 (Wed, 05 Feb 2025) EllapsedTime: 158.4 seconds RetCode: 1 Status: ERROR CheckDir: sangeranalyseR.Rcheck Warnings: NA