Package: sangeranalyseR Version: 1.17.0 Command: /home/biocbuild/bbs-3.21-bioc/R/bin/R CMD INSTALL sangeranalyseR StartedAt: 2025-02-09 15:50:08 -0500 (Sun, 09 Feb 2025) EndedAt: 2025-02-09 15:50:31 -0500 (Sun, 09 Feb 2025) EllapsedTime: 23.1 seconds RetCode: 0 Status: OK