Package: sangeranalyseR Version: 1.17.0 Command: E:\biocbuild\bbs-3.21-bioc\R\bin\R.exe CMD check --no-multiarch --install=check:sangeranalyseR.install-out.txt --library=E:\biocbuild\bbs-3.21-bioc\R\library --no-vignettes --timings sangeranalyseR_1.17.0.tar.gz StartedAt: 2025-02-10 04:59:43 -0500 (Mon, 10 Feb 2025) EndedAt: 2025-02-10 05:02:53 -0500 (Mon, 10 Feb 2025) EllapsedTime: 189.8 seconds RetCode: 1 Status: ERROR CheckDir: sangeranalyseR.Rcheck Warnings: NA