Package: saseR Version: 1.3.0 Maintainer: Alexandre Segers MaintainerEmail: Alexandre.segers at ugent.be git_url: https://git.bioconductor.org/packages/saseR git_branch: devel git_last_commit: f1d9b6b git_last_commit_date: 2024-10-29 11:26:33 -0500 (Tue, 29 Oct 2024)