Package: saseR Version: 1.3.0 Command: /Library/Frameworks/R.framework/Resources/bin/R CMD check --install=check:saseR.install-out.txt --library=/Library/Frameworks/R.framework/Resources/library --no-vignettes --timings saseR_1.3.0.tar.gz StartedAt: 2025-02-03 21:44:11 -0500 (Mon, 03 Feb 2025) EndedAt: 2025-02-03 21:47:01 -0500 (Mon, 03 Feb 2025) EllapsedTime: 170.1 seconds RetCode: 0 Status: WARNINGS CheckDir: saseR.Rcheck Warnings: 1