Package: saseR Version: 1.3.0 Command: /home/biocbuild/R/R/bin/R CMD check --install=check:saseR.install-out.txt --library=/home/biocbuild/R/R/site-library --no-vignettes --timings saseR_1.3.0.tar.gz StartedAt: 2025-01-28 14:52:55 -0000 (Tue, 28 Jan 2025) EndedAt: 2025-01-28 15:02:49 -0000 (Tue, 28 Jan 2025) EllapsedTime: 594.5 seconds RetCode: 0 Status: WARNINGS CheckDir: saseR.Rcheck Warnings: 7