Package: saseR Version: 1.3.0 Command: /home/biocbuild/R/R/bin/R CMD INSTALL saseR StartedAt: 2025-01-29 20:24:35 -0000 (Wed, 29 Jan 2025) EndedAt: 2025-01-29 20:25:53 -0000 (Wed, 29 Jan 2025) EllapsedTime: 77.4 seconds RetCode: 0 Status: OK