Package: saseR Version: 1.3.0 Command: rm -rf saseR.buildbin-libdir && mkdir saseR.buildbin-libdir && /Users/biocbuild/BBS/utils/build-universal.sh saseR_1.3.0.tar.gz /Library/Frameworks/R.framework/Resources/bin/R saseR.buildbin-libdir StartedAt: 2025-02-04 00:54:11 -0500 (Tue, 04 Feb 2025) EndedAt: 2025-02-04 00:55:29 -0500 (Tue, 04 Feb 2025) EllapsedTime: 77.3 seconds RetCode: 0 Status: OK PackageFile: saseR_1.3.0.tgz PackageFileSize: 1.359 MiB