Package: saseR Version: 1.3.0 Command: /Library/Frameworks/R.framework/Resources/bin/R CMD build --keep-empty-dirs --no-resave-data saseR StartedAt: 2025-02-03 18:13:23 -0500 (Mon, 03 Feb 2025) EndedAt: 2025-02-03 18:17:48 -0500 (Mon, 03 Feb 2025) EllapsedTime: 265.8 seconds RetCode: 0 Status: OK PackageFile: saseR_1.3.0.tar.gz PackageFileSize: 1.207 MiB