Package: saseR Version: 1.3.0 Command: /Library/Frameworks/R.framework/Resources/bin/R CMD INSTALL saseR StartedAt: 2025-02-03 15:41:30 -0500 (Mon, 03 Feb 2025) EndedAt: 2025-02-03 15:42:44 -0500 (Mon, 03 Feb 2025) EllapsedTime: 74.0 seconds RetCode: 0 Status: OK