Package: saseR Version: 1.3.0 Command: /home/biocbuild/bbs-3.21-bioc/R/bin/R CMD check --install=check:saseR.install-out.txt --library=/home/biocbuild/bbs-3.21-bioc/R/site-library --timings saseR_1.3.0.tar.gz StartedAt: 2025-02-10 02:12:56 -0500 (Mon, 10 Feb 2025) EndedAt: 2025-02-10 02:24:53 -0500 (Mon, 10 Feb 2025) EllapsedTime: 716.9 seconds RetCode: 0 Status: WARNINGS CheckDir: saseR.Rcheck Warnings: 1