Package: saseR Version: 1.3.0 Command: /home/biocbuild/bbs-3.21-bioc/R/bin/R CMD INSTALL saseR StartedAt: 2025-02-03 15:56:57 -0500 (Mon, 03 Feb 2025) EndedAt: 2025-02-03 15:57:52 -0500 (Mon, 03 Feb 2025) EllapsedTime: 55.3 seconds RetCode: 0 Status: OK