Package: saseR Version: 1.3.0 Command: E:\biocbuild\bbs-3.21-bioc\R\bin\R.exe CMD check --no-multiarch --install=check:saseR.install-out.txt --library=E:\biocbuild\bbs-3.21-bioc\R\library --no-vignettes --timings saseR_1.3.0.tar.gz StartedAt: 2025-02-05 05:25:35 -0500 (Wed, 05 Feb 2025) EndedAt: 2025-02-05 05:34:18 -0500 (Wed, 05 Feb 2025) EllapsedTime: 522.8 seconds RetCode: 0 Status: WARNINGS CheckDir: saseR.Rcheck Warnings: 1