Package: saseR Version: 1.3.0 Command: E:\biocbuild\bbs-3.21-bioc\R\bin\R.exe CMD INSTALL saseR StartedAt: 2025-02-04 16:38:10 -0500 (Tue, 04 Feb 2025) EndedAt: 2025-02-04 16:39:20 -0500 (Tue, 04 Feb 2025) EllapsedTime: 70.4 seconds RetCode: 0 Status: OK