Package: scBubbletree Version: 1.9.0 Command: rm -rf scBubbletree.buildbin-libdir && mkdir scBubbletree.buildbin-libdir && /Users/biocbuild/BBS/utils/build-universal.sh scBubbletree_1.9.0.tar.gz /Library/Frameworks/R.framework/Resources/bin/R scBubbletree.buildbin-libdir StartedAt: 2025-02-09 22:29:27 -0500 (Sun, 09 Feb 2025) EndedAt: 2025-02-09 22:29:36 -0500 (Sun, 09 Feb 2025) EllapsedTime: 9.2 seconds RetCode: 0 Status: OK PackageFile: scBubbletree_1.9.0.tgz PackageFileSize: 2.591 MiB