Package: scBubbletree Version: 1.9.0 Command: /Library/Frameworks/R.framework/Resources/bin/R CMD build --keep-empty-dirs --no-resave-data scBubbletree StartedAt: 2025-02-09 17:30:11 -0500 (Sun, 09 Feb 2025) EndedAt: 2025-02-09 17:32:49 -0500 (Sun, 09 Feb 2025) EllapsedTime: 157.7 seconds RetCode: 0 Status: OK PackageFile: scBubbletree_1.9.0.tar.gz PackageFileSize: 4.43 MiB