Package: scBubbletree Version: 1.9.0 Command: /home/biocbuild/R/R/bin/R CMD build --keep-empty-dirs --no-resave-data scBubbletree StartedAt: 2025-01-29 02:01:05 -0000 (Wed, 29 Jan 2025) EndedAt: 2025-01-29 02:09:38 -0000 (Wed, 29 Jan 2025) EllapsedTime: 512.6 seconds RetCode: 0 Status: OK PackageFile: scBubbletree_1.9.0.tar.gz PackageFileSize: 3.962 MiB