Package: scBubbletree Version: 1.9.0 Command: /Library/Frameworks/R.framework/Resources/bin/R CMD build --keep-empty-dirs --no-resave-data scBubbletree StartedAt: 2025-02-12 18:10:33 -0500 (Wed, 12 Feb 2025) EndedAt: 2025-02-12 18:16:29 -0500 (Wed, 12 Feb 2025) EllapsedTime: 356.0 seconds RetCode: 0 Status: OK PackageFile: scBubbletree_1.9.0.tar.gz PackageFileSize: 4.43 MiB