Package: scBubbletree Version: 1.9.0 Command: /Library/Frameworks/R.framework/Resources/bin/R CMD check --install=check:scBubbletree.install-out.txt --library=/Library/Frameworks/R.framework/Resources/library --no-vignettes --timings scBubbletree_1.9.0.tar.gz StartedAt: 2025-02-12 23:06:31 -0500 (Wed, 12 Feb 2025) EndedAt: 2025-02-12 23:16:11 -0500 (Wed, 12 Feb 2025) EllapsedTime: 580.7 seconds RetCode: 0 Status: OK CheckDir: scBubbletree.Rcheck Warnings: 0